BEGIN:VCALENDAR
VERSION:2.0
PRODID:-//wp-events-plugin.com//7.2.3.1//EN
TZID:Asia/Kuala_Lumpur
X-WR-TIMEZONE:Asia/Kuala_Lumpur
BEGIN:VEVENT
UID:3@msava.org
DTSTART;TZID=Asia/Singapore:20250802T080000
DTEND;TZID=Asia/Singapore:20250803T180000
DTSTAMP:20250509T041926Z
URL:https://msava.org/events/national-scientific-conference-nsc-exhibition
 -2025/
SUMMARY:National Scientific Conference (NSC) & Exhibition 2025
DESCRIPTION:
ATTACH;FMTTYPE=image/jpeg:https://msava.org/wp-content/uploads/2025/03/NSC
 -2025-35th-AGM_WhatsApp-Poster3.jpg
LOCATION:Kuala Lumpur City Centre\, Kuala Lumpur City Centre\, Kuala Lumpur
 \, Malaysia\, Kuala Lumpur\, 50088\, Malaysia
X-APPLE-STRUCTURED-LOCATION;VALUE=URI;X-ADDRESS=Kuala Lumpur City Centre\, 
 Kuala Lumpur\, Malaysia\, Kuala Lumpur\, 50088\, Malaysia;X-APPLE-RADIUS=1
 00;X-TITLE=Kuala Lumpur City Centre:geo:0,0
END:VEVENT
BEGIN:VTIMEZONE
TZID:Asia/Singapore
X-LIC-LOCATION:Asia/Singapore
BEGIN:STANDARD
DTSTART:20240802T080000
TZOFFSETFROM:+0800
TZOFFSETTO:+0800
TZNAME:+08
END:STANDARD
END:VTIMEZONE
END:VCALENDAR