BEGIN:VCALENDAR
VERSION:2.0
PRODID:-//wp-events-plugin.com//7.2.3.1//EN
TZID:Asia/Kuala_Lumpur
X-WR-TIMEZONE:Asia/Kuala_Lumpur
BEGIN:VEVENT
UID:13@msava.org
DTSTART;TZID=Asia/Kuala_Lumpur:20260610T083000
DTEND;TZID=Asia/Kuala_Lumpur:20260610T170000
DTSTAMP:20260423T102428Z
URL:https://msava.org/events/canine-and-feline-dermatology-masterclass/
SUMMARY:Canine and Feline Dermatology Masterclass
DESCRIPTION:\n\n📣 MSAVA Canine and Feline Dermatology Masterclass 2026 
  (The FASAVA-RC CPD Programme)🐰🐹🦉\n\n🗓️ 10th June 2026\n📍
 MSAVA CPD centre\, Kelana Jaya\n🕗 8:30am- 5:00pm\n\n💡 Registration D
 etails:\n\n💳 Member rate:\nRM450\n\n💳 Non-Member rate:\nRM750\n\n
 📌 CPD Point provided\n\nRegistration link:\nhttps://docs.google.com/for
 ms/d/1ay56TzGJHDBA7gQJA5KW_dhhCSaTR4KbvVmPr7MzdLY/edit\n\nFor more informa
 tion please contact Ms.Yoges (MSAVA Admin) at +6018-347 2276
ATTACH;FMTTYPE=image/jpeg:https://msava.org/wp-content/uploads/2026/04/ban
 ner.png
LOCATION:MSAVA CPD Centre\, No. H-1-5\, Parklane Commercial Hub Jalan SS7/2
 6\, Kelana Jaya\, Selangor\, 47301\, Selangor\, Malaysia
X-APPLE-STRUCTURED-LOCATION;VALUE=URI;X-ADDRESS=No. H-1-5\, Parklane Commer
 cial Hub Jalan SS7/26\, Kelana Jaya\, Selangor\, 47301\, Selangor\, Malays
 ia;X-APPLE-RADIUS=100;X-TITLE=MSAVA CPD Centre:geo:0,0
END:VEVENT
BEGIN:VTIMEZONE
TZID:Asia/Kuala_Lumpur
X-LIC-LOCATION:Asia/Kuala_Lumpur
BEGIN:STANDARD
DTSTART:20250610T083000
TZOFFSETFROM:+0800
TZOFFSETTO:+0800
TZNAME:+08
END:STANDARD
END:VTIMEZONE
END:VCALENDAR